BEGIN:VCALENDAR
VERSION:2.0
PRODID:-//Three Cord Marriage - ECPv6.15.13//NONSGML v1.0//EN
CALSCALE:GREGORIAN
METHOD:PUBLISH
X-ORIGINAL-URL:https://www.threecordmarriage.com
X-WR-CALDESC:Events for Three Cord Marriage
REFRESH-INTERVAL;VALUE=DURATION:PT1H
X-Robots-Tag:noindex
X-PUBLISHED-TTL:PT1H
BEGIN:VTIMEZONE
TZID:America/New_York
BEGIN:DAYLIGHT
TZOFFSETFROM:-0500
TZOFFSETTO:-0400
TZNAME:EDT
DTSTART:20250309T070000
END:DAYLIGHT
BEGIN:STANDARD
TZOFFSETFROM:-0400
TZOFFSETTO:-0500
TZNAME:EST
DTSTART:20251102T060000
END:STANDARD
BEGIN:DAYLIGHT
TZOFFSETFROM:-0500
TZOFFSETTO:-0400
TZNAME:EDT
DTSTART:20260308T070000
END:DAYLIGHT
BEGIN:STANDARD
TZOFFSETFROM:-0400
TZOFFSETTO:-0500
TZNAME:EST
DTSTART:20261101T060000
END:STANDARD
BEGIN:DAYLIGHT
TZOFFSETFROM:-0500
TZOFFSETTO:-0400
TZNAME:EDT
DTSTART:20270314T070000
END:DAYLIGHT
BEGIN:STANDARD
TZOFFSETFROM:-0400
TZOFFSETTO:-0500
TZNAME:EST
DTSTART:20271107T060000
END:STANDARD
END:VTIMEZONE
BEGIN:VEVENT
DTSTART;TZID=America/New_York:20260105T193000
DTEND;TZID=America/New_York:20260105T210000
DTSTAMP:20260422T055544
CREATED:20251204T170228Z
LAST-MODIFIED:20251204T170518Z
UID:3128-1767641400-1767646800@www.threecordmarriage.com
SUMMARY:What I Wish My Mother Had Told Me About Men (Women Only Book Study)
DESCRIPTION:What I Wish My Mother Had Told Me About Men\nAn Encouraging Book Study for Women\nAbout the Gathering\nAs women\, we often carry unspoken struggles\, unhealed wounds\, and unanswered questions about love and identity. My heart is to bring women together — even amid the holiday rush — for encouragement\, empowerment\, and transparency. Together\, we’ll allow this book to be the catalyst for real conversation and authentic connection.
URL:https://www.threecordmarriage.com/event/wiwmmhtmamjan5/
LOCATION:Hybrid: TCG Salon & Headspa & Zoom\, 2413 Curry Ford Rd\, Orlando\, FL\, 32806\, United States
CATEGORIES:Free,Women Only
ATTACH;FMTTYPE=image/jpeg:https://www.threecordmarriage.com/wp-content/uploads/2025/11/WOMEN-ONLY-BOOK-STUDY-16X9-600PX-Compressed.jpg
ORGANIZER;CN="Three Cord Marriage%2C Inc.":MAILTO:info@ThreeCordMarriage.com
END:VEVENT
BEGIN:VEVENT
DTSTART;TZID=America/New_York:20260107T113000
DTEND;TZID=America/New_York:20260107T120000
DTSTAMP:20260422T055544
CREATED:20251217T182432Z
LAST-MODIFIED:20251217T182832Z
UID:3135-1767785400-1767787200@www.threecordmarriage.com
SUMMARY:Team Tactics Couples in Business | January 7
DESCRIPTION:Team Tactics is a couples initiative of the Central Florida Christian Chamber of Commerce created for married business leaders who work alongside their spouse and desire to strengthen both their marriage and their business in God’s order. \nThis monthly gathering provides a Scripture-centered space to connect with other couples in business\, engage in meaningful conversation\, and address the unique dynamics of leading together at home and in the marketplace. \nBring a lunch and join us on the first Wednesday of each month. If you’re unable to attend in person\, a virtual option is available. \nSchedule\n11:30–12:00 | Fellowship & Connection (Optional)\nArrive early to connect and build relationships with other couples in business. \n12:00–1:00 | Scripture-Centered Marriage & Marketplace Conversation\nA guided\, relational conversation for married business leaders focused on alignment\, leadership\, and growth. \nCan’t make the full time?\nFeel free to join us at noon for the core conversation. \nYou will receive an email with access to the private communication forum for this group\, which will include all meeting details\, Zoom links\, and updates. 
URL:https://www.threecordmarriage.com/event/team-tactics-jan-2026/
LOCATION:Hybrid: Three Cord Marriage Headquarters or Zoom
CATEGORIES:Couples in Business
ATTACH;FMTTYPE=image/jpeg:https://www.threecordmarriage.com/wp-content/uploads/2025/03/1720462774094_1000-px.jpg
ORGANIZER;CN="Three Cord Marriage%2C Inc.":MAILTO:info@ThreeCordMarriage.com
END:VEVENT
BEGIN:VEVENT
DTSTART;TZID=America/New_York:20260110T180000
DTEND;TZID=America/New_York:20260110T203000
DTSTAMP:20260422T055544
CREATED:20251223T215429Z
LAST-MODIFIED:20260112T131834Z
UID:3181-1768068000-1768077000@www.threecordmarriage.com
SUMMARY:Couples’ Alliance | Monthly Table
DESCRIPTION:Couples’ Alliance | Monthly Table\nThe Couples’ Alliance Table is a monthly\, in-person gathering for couples who partner with Three Cord Marriage as Monthly Mission Partners. \nHosted on the second Saturday of every month\, this intimate evening is designed to strengthen your marriage through shared meals\, honest conversation\, biblical truth\, and purpose-driven community. \nRooted in Ecclesiastes 4:12\, this is not a class—it’s a table. A place to be slow down\, be fully present\, and invest in your marriage without distraction. \n\nWhat to Expect\n\nA themed potluck dinner with committed couples\nGuided discussion led by Raymond & Leslie Funk\nBiblical wisdom and practical insight for everyday marriage\nA confidential\, distraction-free environment\n\n\nWho It’s For\n\nCouples who are Monthly Mission Partners at $79 or more per month\nCouples may attend up to two Marriage Tables before committing as Couples’ Alliance Mission Partners\n\n\nImportant Details\n\nRSVP required (registration closes the Friday before each Marriage Table)\nAddress and potluck theme sent upon confirmation\nChildcare is not provided\nSeating is limited to preserve depth and trust\n\n\nNot local or unable to attend in person?A Zoom option is available for the discussion portion of the Marriage Table. \nAs a Couples’ Alliance Mission Partner\, your monthly generosity sustains this Table and advances the mission of strengthening marriages\, defending families\, and transforming communities. \nJoin us in the fight… together.Invest in your marriage. Walk it out with others. Live married on purpose. \n👉 RSVP Now or Become a Couples’ Alliance Mission Partner
URL:https://www.threecordmarriage.com/event/couples-alliance-jan26/
LOCATION:TCM Headquarters 32803
CATEGORIES:Couples' Alliance
ATTACH;FMTTYPE=image/jpeg:https://www.threecordmarriage.com/wp-content/uploads/2025/12/The-Table-16x9-600px-Compressed.jpg
ORGANIZER;CN="Three Cord Marriage%2C Inc.":MAILTO:info@ThreeCordMarriage.com
END:VEVENT
BEGIN:VEVENT
DTSTART;TZID=America/New_York:20260119T193000
DTEND;TZID=America/New_York:20260119T210000
DTSTAMP:20260422T055544
CREATED:20251204T170431Z
LAST-MODIFIED:20251223T225755Z
UID:3130-1768851000-1768856400@www.threecordmarriage.com
SUMMARY:What I Wish My Mother Had Told Me About Men (Women Only Book Study)
DESCRIPTION:What I Wish My Mother Had Told Me About Men\nAn Encouraging Book Study for Women\nAbout the Gathering\nAs women\, we often carry unspoken struggles\, unhealed wounds\, and unanswered questions about love and identity. My heart is to bring women together — even amid the holiday rush — for encouragement\, empowerment\, and transparency. Together\, we’ll allow this book to be the catalyst for real conversation and authentic connection.
URL:https://www.threecordmarriage.com/event/wiwmmhtmamjan19/
LOCATION:Hybrid: TCG Salon & Headspa & Zoom\, 2413 Curry Ford Rd\, Orlando\, FL\, 32806\, United States
CATEGORIES:Free,Women Only
ATTACH;FMTTYPE=image/jpeg:https://www.threecordmarriage.com/wp-content/uploads/2025/11/WOMEN-ONLY-BOOK-STUDY-16X9-600PX-Compressed.jpg
ORGANIZER;CN="Three Cord Marriage%2C Inc.":MAILTO:info@ThreeCordMarriage.com
END:VEVENT
BEGIN:VEVENT
DTSTART;TZID=America/New_York:20260126T190000
DTEND;TZID=America/New_York:20260126T200000
DTSTAMP:20260422T055544
CREATED:20260105T023403Z
LAST-MODIFIED:20260105T023657Z
UID:3244-1769454000-1769457600@www.threecordmarriage.com
SUMMARY:Thrive In Marriage | Free Couples' Study
DESCRIPTION:Thrive in Marriage – 10-Week Couples Study (Free Zoom Group)\nJoin Raymond and Leslie Funk for a free\, live Zoom couples study based on the book Thrive in Marriage. \nThis 10-session\, bi-weekly experience is designed to help couples at any stage grow deeper connection\, strengthen unity\, and build a marriage that doesn’t just survive—but thrives. \nHosted through the Married For A Purpose platform and community\, this guided group experience offers practical teaching\, meaningful conversation\, and a supportive space to grow together. \nWhether your marriage feels strong or needs renewed focus\, this study will equip you with tools and perspective to move forward with purpose. \nRegister Here \nRequired Materials: \n• Thrive Book: https://amzn.to/44t5cn9 \n• Thrive Participant Guide: https://amzn.to/4iSclTS
URL:https://www.threecordmarriage.com/event/thrive-jan26/
LOCATION:Zoom\, Zoom Link Will Be Sent with Registration Confirmation
CATEGORIES:Free
ATTACH;FMTTYPE=image/jpeg:https://www.threecordmarriage.com/wp-content/uploads/2026/01/Event-Image-600px-compressed.jpg
END:VEVENT
END:VCALENDAR