BEGIN:VCALENDAR
VERSION:2.0
PRODID:-//Three Cord Marriage - ECPv6.15.13//NONSGML v1.0//EN
CALSCALE:GREGORIAN
METHOD:PUBLISH
X-ORIGINAL-URL:https://www.threecordmarriage.com
X-WR-CALDESC:Events for Three Cord Marriage
REFRESH-INTERVAL;VALUE=DURATION:PT1H
X-Robots-Tag:noindex
X-PUBLISHED-TTL:PT1H
BEGIN:VTIMEZONE
TZID:America/New_York
BEGIN:DAYLIGHT
TZOFFSETFROM:-0500
TZOFFSETTO:-0400
TZNAME:EDT
DTSTART:20240310T070000
END:DAYLIGHT
BEGIN:STANDARD
TZOFFSETFROM:-0400
TZOFFSETTO:-0500
TZNAME:EST
DTSTART:20241103T060000
END:STANDARD
BEGIN:DAYLIGHT
TZOFFSETFROM:-0500
TZOFFSETTO:-0400
TZNAME:EDT
DTSTART:20250309T070000
END:DAYLIGHT
BEGIN:STANDARD
TZOFFSETFROM:-0400
TZOFFSETTO:-0500
TZNAME:EST
DTSTART:20251102T060000
END:STANDARD
BEGIN:DAYLIGHT
TZOFFSETFROM:-0500
TZOFFSETTO:-0400
TZNAME:EDT
DTSTART:20260308T070000
END:DAYLIGHT
BEGIN:STANDARD
TZOFFSETFROM:-0400
TZOFFSETTO:-0500
TZNAME:EST
DTSTART:20261101T060000
END:STANDARD
END:VTIMEZONE
BEGIN:VEVENT
DTSTART;TZID=America/New_York:20251203T110000
DTEND;TZID=America/New_York:20251203T130000
DTSTAMP:20260422T072320
CREATED:20250612T160841Z
LAST-MODIFIED:20250612T160841Z
UID:2969-1764759600-1764766800@www.threecordmarriage.com
SUMMARY:Team Tactics Couples In Business | December 3
DESCRIPTION:Team Tactics is a couples' initiative led by Three Cord Marriage within the Central Florida Christian Chamber designed to create community among fellow members who work in business with their spouses and provide a space to address the unique challenges of working together while maintaining a healthy marriage. \nBring a lunch and join us on the 1st Wednesday of each month! If you can't make it in-person\, select the virtual option and meet us in the Zoom room. \nYou must be a member of the Central Florida Christian Chamber or the U.S. Christian Chamber to attend. \nRegister on the Chamber's website.
URL:https://www.threecordmarriage.com/event/team-tactics-dec-2025/
LOCATION:Three Cord Marriage Headquarters & Zoom
CATEGORIES:Couples in Business
ATTACH;FMTTYPE=image/jpeg:https://www.threecordmarriage.com/wp-content/uploads/2025/03/1720462774094_1000-px.jpg
END:VEVENT
BEGIN:VEVENT
DTSTART;TZID=America/New_York:20251207T083000
DTEND;TZID=America/New_York:20251207T173000
DTSTAMP:20260422T072320
CREATED:20251106T200643Z
LAST-MODIFIED:20251106T200643Z
UID:3106-1765096200-1765128600@www.threecordmarriage.com
SUMMARY:Tactical Marriage Training Day | December 7
DESCRIPTION:Tactical Training. Real-Life Scenarios. Unbreakable Marriages.\nThis isn’t just another seminar—it’s an intense\, hands-on experience!\nWHAT TO EXPECT \n\nThrilling immersive simulated firearm scenario training that tests your communication and teamwork skills\nTrain with some of the best in tactical operations and in marriage equipping to take your defensive skills and marriage to the next level\nBattle tested marriage tactics\, Biblically based\nMemorable experiences that will reignite the spark in your relationship and leave you empowered as a unified team\nAll-inclusive with equipment\, materials\, lunch and snacks\nOpportunities to connect with like-minded couples in a small group setting\, limited to 12 couples\nNo firearms handling experience required\, but even if you do have years of experience\, you will learn new strategies with your spouse from expert instructors with over 35 years of experience\n\nAre you ready to step up\, strengthen your connection\, and train like your marriage depends on it? Because it does.\nFor details and registration: https://www.threecordmarriage.com/tactical-marriage-training-day/
URL:https://www.threecordmarriage.com/event/tactical-marriage-training-day-december-7/
LOCATION:Decision Tactical\, 430 Towne Center Cir.\, Suite A\, Sanford\, FL\, 32771\, United States
CATEGORIES:Marriage Conference,Tactical Training
ATTACH;FMTTYPE=image/jpeg:https://www.threecordmarriage.com/wp-content/uploads/2025/11/TMTD-169-1-600px-Compressed.jpg
ORGANIZER;CN="Three Cord Marriage%2C Inc.":MAILTO:info@ThreeCordMarriage.com
END:VEVENT
BEGIN:VEVENT
DTSTART;TZID=America/New_York:20251208T193000
DTEND;TZID=America/New_York:20251208T210000
DTSTAMP:20260422T072320
CREATED:20251114T201624Z
LAST-MODIFIED:20251114T201624Z
UID:3115-1765222200-1765227600@www.threecordmarriage.com
SUMMARY:What I Wish My Mother Had Told Me About Men (Women Only Book Study)
DESCRIPTION:What I Wish My Mother Had Told Me About Men\nAn Encouraging Book Study for Women\nAbout the Gathering\nAs women\, we often carry unspoken struggles\, unhealed wounds\, and unanswered questions about love and identity. My heart is to bring women together — even amid the holiday rush — for encouragement\, empowerment\, and transparency. Together\, we’ll allow this book to be the catalyst for real conversation and authentic connection.
URL:https://www.threecordmarriage.com/event/wiwmmhtmam/
LOCATION:Hybrid: TCG Salon & Headspa & Zoom\, 2413 Curry Ford Rd\, Orlando\, FL\, 32806\, United States
CATEGORIES:Free,Women Only
ATTACH;FMTTYPE=image/jpeg:https://www.threecordmarriage.com/wp-content/uploads/2025/11/WOMEN-ONLY-BOOK-STUDY-16X9-600PX-Compressed.jpg
ORGANIZER;CN="Three Cord Marriage%2C Inc.":MAILTO:info@ThreeCordMarriage.com
END:VEVENT
BEGIN:VEVENT
DTSTART;TZID=America/New_York:20251213T180000
DTEND;TZID=America/New_York:20251213T210000
DTSTAMP:20260422T072320
CREATED:20241211T015905Z
LAST-MODIFIED:20251204T164710Z
UID:2719-1765648800-1765659600@www.threecordmarriage.com
SUMMARY:TCM Alliance Meetup: December 13\, 2025
DESCRIPTION:The TCM Alliance: Holiday Festival Date Night Out\nDetails to Know:\n\nRSVP is required. We want to know who to expect since we will be meeting out this meetup. Registration is per couple and closes the Friday before each meetup. Address along with any other details will be sent with registration confirmation.\nChildcare is not provided. This is your time to connect without distractions.\nCouples can attend up to two meetups before deciding to become TCM Alliance Members.\n\nAlliance Sustaining Member Donor: As a thank your for your monthly giving\, we offer this Alliance Meetup to provide you with purpose-driven community to strengthen your marriage. Your generosity helps sustain this ministry\, providing impactful experiences like this one and more outreach events for the community to support the mission of strengthening marriages\, defending families\, and transforming communities. \nJoin us In The Fight...Together and Transform Your Marriage.\nSeats are limited—don’t miss this opportunity to invest in your marriage\, build lifelong connections\, and experience the joy of a marriage lived out as God intended. \nNot Local? Can’t Make It In Person?\nJoin us via Zoom for the discussion portion of the evening. While the experience is best in person\, we’re excited to extend our community to those who can’t be physically present. \n👉 RSVP Now or Become a TCM Alliance Member Today! \n  \nStrengthen Your Marriage. Build Lasting Connections. Unlock the Full Potential of Your Marriage.\nMark your calendar for the second Saturday of every month and step into a powerful community designed to help you thrive in your marriage. Whether you're engaged\, newly married\, or have been together for decades\, the TCM Alliance Meetup is where couples unite to strengthen their bond\, deepen their faith\, and grow through life’s challenges—together. \nRooted in the truth of Ecclesiastes 4:12 (“A cord of three strands is not easily broken”)\, this monthly gathering offers: \n\nAuthentic Connection: Share a potluck meal\, laugh\, and celebrate life with couples committed to walking out their vows in marriage.\nShared Wisdom: Learn from couples in all stages of life. Every story—whether of triumph or trial—is a testimony that can inspire\, embolden\, and remind you that you’re never alone on this journey.\nBiblical Insights: Engage in group discussions led by TCM founders and guest experts\, covering topics like communication\, healing\, and intimacy.\nPractical Tools: Gain wisdom and actionable strategies to overcome challenges and grow stronger in your relationship.\n\nHosted in the welcoming home of TCM founders Raymond and Leslie Funk in downtown Orlando\, this evening is more than just a gathering—it’s an investment in your relationship. With laughter\, shared meals\, and meaningful conversation\, you'll leave emboldened and empowered to face life’s challenges together. \n  \n\n\n\n\n\n\nWhy Attend?\nHere’s what couples are saying:\n"Leslie and Raymond are as real as it gets. Their transparency\, wisdom\, and focus on God’s Word have transformed how we approach marriage."\n"This group has become family—a place where we can laugh\, cry\, and grow together in faith." \nEach month brings fresh inspiration\, expert-led discussions\, and opportunities to connect with other couples while learning from their unique experiences. Quarterly\, we host guest speakers on transformative topics like: \n\n“Stronger Marriage: The Key to Professional Success”\n“Secrets to Great Connection & Communication”\n“Understanding Trauma in Marriage: How to Find Healing”\n\nWe also incorporate fun Date Nights like bowling\, comedy shows\, and dinner outings to keep the spark alive!
URL:https://www.threecordmarriage.com/event/dec25-alliance-meetup/
LOCATION:Frontyard Holiday Festival\, Address will be emailed upon registration
CATEGORIES:Couples' Alliance,Date Night
ATTACH;FMTTYPE=image/jpeg:https://www.threecordmarriage.com/wp-content/uploads/2024/12/TCM-Alliance-Meetup-16x9-102225-1000px.jpg
END:VEVENT
BEGIN:VEVENT
DTSTART;TZID=America/New_York:20251222T193000
DTEND;TZID=America/New_York:20251222T210000
DTSTAMP:20260422T072320
CREATED:20251204T170003Z
LAST-MODIFIED:20251204T170049Z
UID:3126-1766431800-1766437200@www.threecordmarriage.com
SUMMARY:What I Wish My Mother Had Told Me About Men (Women Only Book Study)
DESCRIPTION:What I Wish My Mother Had Told Me About Men\nAn Encouraging Book Study for Women\nAbout the Gathering\nAs women\, we often carry unspoken struggles\, unhealed wounds\, and unanswered questions about love and identity. My heart is to bring women together — even amid the holiday rush — for encouragement\, empowerment\, and transparency. Together\, we’ll allow this book to be the catalyst for real conversation and authentic connection.
URL:https://www.threecordmarriage.com/event/wiwmmtmabdec22/
LOCATION:Hybrid: TCG Salon & Headspa & Zoom\, 2413 Curry Ford Rd\, Orlando\, FL\, 32806\, United States
CATEGORIES:Free,Women Only
ATTACH;FMTTYPE=image/jpeg:https://www.threecordmarriage.com/wp-content/uploads/2025/11/WOMEN-ONLY-BOOK-STUDY-16X9-600PX-Compressed.jpg
ORGANIZER;CN="Three Cord Marriage%2C Inc.":MAILTO:info@ThreeCordMarriage.com
END:VEVENT
END:VCALENDAR