BEGIN:VCALENDAR
VERSION:2.0
PRODID:-//Three Cord Marriage - ECPv6.15.13//NONSGML v1.0//EN
CALSCALE:GREGORIAN
METHOD:PUBLISH
X-WR-CALNAME:Three Cord Marriage
X-ORIGINAL-URL:https://www.threecordmarriage.com
X-WR-CALDESC:Events for Three Cord Marriage
REFRESH-INTERVAL;VALUE=DURATION:PT1H
X-Robots-Tag:noindex
X-PUBLISHED-TTL:PT1H
BEGIN:VTIMEZONE
TZID:America/New_York
BEGIN:DAYLIGHT
TZOFFSETFROM:-0500
TZOFFSETTO:-0400
TZNAME:EDT
DTSTART:20240310T070000
END:DAYLIGHT
BEGIN:STANDARD
TZOFFSETFROM:-0400
TZOFFSETTO:-0500
TZNAME:EST
DTSTART:20241103T060000
END:STANDARD
BEGIN:DAYLIGHT
TZOFFSETFROM:-0500
TZOFFSETTO:-0400
TZNAME:EDT
DTSTART:20250309T070000
END:DAYLIGHT
BEGIN:STANDARD
TZOFFSETFROM:-0400
TZOFFSETTO:-0500
TZNAME:EST
DTSTART:20251102T060000
END:STANDARD
BEGIN:DAYLIGHT
TZOFFSETFROM:-0500
TZOFFSETTO:-0400
TZNAME:EDT
DTSTART:20260308T070000
END:DAYLIGHT
BEGIN:STANDARD
TZOFFSETFROM:-0400
TZOFFSETTO:-0500
TZNAME:EST
DTSTART:20261101T060000
END:STANDARD
END:VTIMEZONE
BEGIN:VEVENT
DTSTART;TZID=America/New_York:20250305T113000
DTEND;TZID=America/New_York:20250305T130000
DTSTAMP:20260422T182823
CREATED:20250304T232920Z
LAST-MODIFIED:20250304T232920Z
UID:2871-1741174200-1741179600@www.threecordmarriage.com
SUMMARY:Team Tactics Couples In Business | March 5
DESCRIPTION:Team Tactics is a couples' initiative led by Three Cord Marriage within the Central Florida Christian Chamber designed to create community among fellow members who work in business with their spouses and provide a space to address the unique challenges of working together while maintaining a healthy marriage. \nBring a lunch and join us on the 1st Wednesday of each month! If you can't make it in-person\, select the virtual option and meet us in the Zoom room. \nYou must be a member of the Central Florida Christian Chamber or the U.S. Christian Chamber to attend. \nRegister on the Chamber's website: https://business.cfchristianchamber.com/ap/Events/Register/MwF3k3Qc8CeCg
URL:https://www.threecordmarriage.com/event/team-tactics-mar-2025/
LOCATION:Three Cord Marriage Headquarters & Zoom
CATEGORIES:Couples in Business
ATTACH;FMTTYPE=image/jpeg:https://www.threecordmarriage.com/wp-content/uploads/2025/03/1720462774094_1000-px.jpg
END:VEVENT
BEGIN:VEVENT
DTSTART;VALUE=DATE:20250307
DTEND;VALUE=DATE:20250310
DTSTAMP:20260422T182823
CREATED:20250305T185953Z
LAST-MODIFIED:20250305T191235Z
UID:2884-1741305600-1741564799@www.threecordmarriage.com
SUMMARY:FamilyLife | Weekend to Remember Kansas City
DESCRIPTION:Save $100 off registration for the couple using our Group Code: TacticalMarriage \nThe FamilyLife’s Weekend to Remember® is a two-and-a half-day marriage getaway designed to help you nurture and grow your relationship based on God’s design. You’ll listen to engaging talks by married couples who teach practical\, biblically centered concepts\, engage in alone time through one-on-one couples projects\, and leave the weekend with the tools you need to continue to grow in communication and intimacy with your spouse. \nWhile this is not a Three Cord Marriage event\, we fully support FamilyLife’s mission—which aligns with ours in strengthening marriages. That’s why we’ve collaborated with them to offer you a special discount on registration for this great\, marriage-enriching experience across the nation! \nFind the Weekend-To-Remember near you and register here: https://www.familylife.com/weekend-to-remember/
URL:https://www.threecordmarriage.com/event/familylife-weekend-to-remember-kansas-city/
LOCATION:Overland Park Marriott\, Overland Park\, Kansas
CATEGORIES:FamilyLife,Marriage Retreat
ATTACH;FMTTYPE=image/jpeg:https://www.threecordmarriage.com/wp-content/uploads/2025/03/Kansas-City-1000px-Compressed.jpg
END:VEVENT
BEGIN:VEVENT
DTSTART;VALUE=DATE:20250307
DTEND;VALUE=DATE:20250310
DTSTAMP:20260422T182823
CREATED:20250305T191127Z
LAST-MODIFIED:20250305T191157Z
UID:2892-1741305600-1741564799@www.threecordmarriage.com
SUMMARY:FamilyLife | Weekend to Remember Columbus\, Ohio
DESCRIPTION:Save $100 off registration for the couple using our Group Code: TacticalMarriage \nThe FamilyLife’s Weekend to Remember® is a two-and-a half-day marriage getaway designed to help you nurture and grow your relationship based on God’s design. You’ll listen to engaging talks by married couples who teach practical\, biblically centered concepts\, engage in alone time through one-on-one couples projects\, and leave the weekend with the tools you need to continue to grow in communication and intimacy with your spouse. \nWhile this is not a Three Cord Marriage event\, we fully support FamilyLife’s mission—which aligns with ours in strengthening marriages. That’s why we’ve collaborated with them to offer you a special discount on registration for this great\, marriage-enriching experience across the nation! \nFind the Weekend-To-Remember near you and register here: https://www.familylife.com/weekend-to-remember/
URL:https://www.threecordmarriage.com/event/familylife-weekend-to-remember-columbus-ohio/
LOCATION:Hyatt Regency Columbus\, Columbus\, Ohio
CATEGORIES:FamilyLife,Marriage Retreat
ATTACH;FMTTYPE=image/jpeg:https://www.threecordmarriage.com/wp-content/uploads/2025/03/Columbus-Ohio-1000px-Compressed.jpg
END:VEVENT
BEGIN:VEVENT
DTSTART;TZID=America/New_York:20250308T173000
DTEND;TZID=America/New_York:20250308T210000
DTSTAMP:20260422T182823
CREATED:20241211T013603Z
LAST-MODIFIED:20250303T165457Z
UID:2700-1741455000-1741467600@www.threecordmarriage.com
SUMMARY:TCM Alliance Meetup: March 8\, 2025 | DATE NIGHT
DESCRIPTION:The TCM Alliance Meetup\nThis month is Date Night at the Casselberry Spring Jazz & Art Fest.\nStrengthen Your Marriage. Build Lasting Connections. Unlock the Full Potential of Your Marriage. \nMark your calendar for the second Saturday of every month and step into a powerful community designed to help you thrive in your marriage. Whether you're engaged\, newly married\, or have been together for decades\, the TCM Alliance Meetup is where couples unite to strengthen their bond\, deepen their faith\, and grow through life’s challenges—together. \nRooted in the truth of Ecclesiastes 4:12 (“A cord of three strands is not easily broken”)\, this monthly gathering offers: \n\nAuthentic Connection: Share a meal\, laugh\, and celebrate life with couples committed to walking out their vows in marriage.\nShared Wisdom: Learn from couples in all stages of life. Every story—whether of triumph or trial—is a testimony that can inspire\, embolden\, and remind you that you’re never alone on this journey.\nBiblical Insights: Engage in group discussions led by TCM founders and guest experts\, covering topics like communication\, healing\, and intimacy.\nPractical Tools: Gain wisdom and actionable strategies to overcome challenges and grow stronger in your relationship.\n\nHosted in the welcoming home of TCM founders Raymond and Leslie Funk in downtown Orlando\, this evening is more than just a gathering—it’s an investment in your relationship. With laughter\, shared meals\, and meaningful conversation\, you'll leave emboldened and empowered to face life’s challenges together. \nNot Local? Can’t Make It In Person?\nJoin us via Zoom for the discussion portion of the evening. While the experience is best in person\, we’re excited to extend our community to those who can’t be physically present. \n\n\n\n\n\n\nWhy Attend?\nHere’s what couples are saying:\n"Leslie and Raymond are as real as it gets. Their transparency\, wisdom\, and focus on God’s Word have transformed how we approach marriage."\n"This group has become family—a place where we can laugh\, cry\, and grow together in faith." \nEach month brings fresh inspiration\, expert-led discussions\, and opportunities to connect with other couples while learning from their unique experiences. Quarterly\, we host guest speakers on transformative topics like: \n\n“Stronger Marriage: The Key to Professional Success”\n“Secrets to Great Connection & Communication”\n“Understanding Trauma in Marriage: How to Find Healing”\n\nWe also incorporate fun Date Nights like bowling\, comedy shows\, and dinner outings to keep the spark alive! \nDetails to Know:\n\nRSVP is required. Save your seats at the table. Registration is per couple and closes the Friday before each meetup. Address along with the potluck theme of the month will be sent with registration confirmation.\nChildcare is not provided. This is your time to connect without distractions.\nCouples can attend up to two meetups before deciding to become TCM Alliance Members.\n\nAlliance Sustaining Member Donor: As a thank your for your monthly giving\, we offer this Alliance Meetup to provide you with purpose-driven community to strengthen your marriage. Your generosity helps sustain this ministry\, providing impactful experiences like this one and more outreach events for the community to support the mission of strengthening marriages\, defending families\, and transforming communities. \nJoin us In The Fight...Together and Transform Your Marriage.\nSeats are limited—don’t miss this opportunity to invest in your marriage\, build lifelong connections\, and experience the joy of a marriage lived out as God intended. \n👉 RSVP Now or Become a TCM Alliance Member Today!
URL:https://www.threecordmarriage.com/event/mar25-alliance-meetup/
LOCATION:Lake Concord Park\, 95 Triplet Lake Dr.\, Casselberry\, FL\, 32707\, United States
CATEGORIES:Couples' Alliance
ATTACH;FMTTYPE=image/jpeg:https://www.threecordmarriage.com/wp-content/uploads/2024/12/TCM-Alliance-Meetup-16x9-1000px-Compressed.jpg
END:VEVENT
BEGIN:VEVENT
DTSTART;VALUE=DATE:20250321
DTEND;VALUE=DATE:20250324
DTSTAMP:20260422T182823
CREATED:20250310T133732Z
LAST-MODIFIED:20250310T133732Z
UID:2907-1742515200-1742774399@www.threecordmarriage.com
SUMMARY:FamilyLife | Weekend to Remember Buffalo\, New York
DESCRIPTION:Save $100 off registration for the couple using our Group Code: TacticalMarriage \nThe FamilyLife’s Weekend to Remember® is a two-and-a half-day marriage getaway designed to help you nurture and grow your relationship based on God’s design. You’ll listen to engaging talks by married couples who teach practical\, biblically centered concepts\, engage in alone time through one-on-one couples projects\, and leave the weekend with the tools you need to continue to grow in communication and intimacy with your spouse. \nWhile this is not a Three Cord Marriage event\, we fully support FamilyLife’s mission—which aligns with ours in strengthening marriages. That’s why we’ve collaborated with them to offer you a special discount on registration for this great\, marriage-enriching experience across the nation! \nFind the Weekend-To-Remember near you and register here: https://www.familylife.com/weekend-to-remember/
URL:https://www.threecordmarriage.com/event/familylife-weekend-to-remember-buffalo-new-york/
LOCATION:Hyatt Regency Buffalo Hotel & Conference Center
CATEGORIES:FamilyLife,Marriage Retreat
ATTACH;FMTTYPE=image/jpeg:https://www.threecordmarriage.com/wp-content/uploads/2025/03/Buffalo-1000px-Compressed.jpg
END:VEVENT
BEGIN:VEVENT
DTSTART;VALUE=DATE:20250328
DTEND;VALUE=DATE:20250331
DTSTAMP:20260422T182823
CREATED:20250310T133428Z
LAST-MODIFIED:20250310T133428Z
UID:2903-1743120000-1743379199@www.threecordmarriage.com
SUMMARY:FamilyLife | Weekend to Remember Appleton\, Wisconsin
DESCRIPTION:Save $100 off registration for the couple using our Group Code: TacticalMarriage \nThe FamilyLife’s Weekend to Remember® is a two-and-a half-day marriage getaway designed to help you nurture and grow your relationship based on God’s design. You’ll listen to engaging talks by married couples who teach practical\, biblically centered concepts\, engage in alone time through one-on-one couples projects\, and leave the weekend with the tools you need to continue to grow in communication and intimacy with your spouse. \nWhile this is not a Three Cord Marriage event\, we fully support FamilyLife’s mission—which aligns with ours in strengthening marriages. That’s why we’ve collaborated with them to offer you a special discount on registration for this great\, marriage-enriching experience across the nation! \nFind the Weekend-To-Remember near you and register here: https://www.familylife.com/weekend-to-remember/
URL:https://www.threecordmarriage.com/event/familylife-weekend-to-remember-appleton-wisconsin/
LOCATION:Hilton Appleton Paper Valley
CATEGORIES:FamilyLife,Marriage Retreat
ATTACH;FMTTYPE=image/jpeg:https://www.threecordmarriage.com/wp-content/uploads/2025/03/Wisconsin-1000px-Compressed.jpg
END:VEVENT
END:VCALENDAR