BEGIN:VCALENDAR
VERSION:2.0
PRODID:-//Three Cord Marriage - ECPv6.15.13//NONSGML v1.0//EN
CALSCALE:GREGORIAN
METHOD:PUBLISH
X-ORIGINAL-URL:https://www.threecordmarriage.com
X-WR-CALDESC:Events for Three Cord Marriage
REFRESH-INTERVAL;VALUE=DURATION:PT1H
X-Robots-Tag:noindex
X-PUBLISHED-TTL:PT1H
BEGIN:VTIMEZONE
TZID:America/New_York
BEGIN:DAYLIGHT
TZOFFSETFROM:-0500
TZOFFSETTO:-0400
TZNAME:EDT
DTSTART:20240310T070000
END:DAYLIGHT
BEGIN:STANDARD
TZOFFSETFROM:-0400
TZOFFSETTO:-0500
TZNAME:EST
DTSTART:20241103T060000
END:STANDARD
BEGIN:DAYLIGHT
TZOFFSETFROM:-0500
TZOFFSETTO:-0400
TZNAME:EDT
DTSTART:20250309T070000
END:DAYLIGHT
BEGIN:STANDARD
TZOFFSETFROM:-0400
TZOFFSETTO:-0500
TZNAME:EST
DTSTART:20251102T060000
END:STANDARD
BEGIN:DAYLIGHT
TZOFFSETFROM:-0500
TZOFFSETTO:-0400
TZNAME:EDT
DTSTART:20260308T070000
END:DAYLIGHT
BEGIN:STANDARD
TZOFFSETFROM:-0400
TZOFFSETTO:-0500
TZNAME:EST
DTSTART:20261101T060000
END:STANDARD
END:VTIMEZONE
BEGIN:VEVENT
DTSTART;TZID=America/New_York:20250205T113000
DTEND;TZID=America/New_York:20250205T130000
DTSTAMP:20260422T194608
CREATED:20250102T152938Z
LAST-MODIFIED:20250102T153540Z
UID:2771-1738755000-1738760400@www.threecordmarriage.com
SUMMARY:Team Tactics: A Candid Chat with Mark & Ginger Whitacre
DESCRIPTION:THIS MONTH ONLY: OPEN TO COUPLES WHO ARE NOT YET MEMBERS OF THE CENTRAL FLORIDA CHRISTIAN CHAMBER \nWe've been honored to hear the radical testimony of Mark Whitacre\, VP of Culture & Care at Coca-Cola Consolidated\, and his journey from atheist - to informant - to lover of Jesus. This month\, we will have the privilege of having a conversation with both Mark & his wife\, Ginger\, as they share their wisdom with us and we hear  Ginger's point-of-view! \nMark is the highest-level executive ever to turn whistleblower in U.S. history. He worked undercover with the FBI for three years during their investigation of Archer Daniels Midland (ADM) and a billion-dollar international price-fixing scheme. \nFor his role in the scheme\, Mark spent more than eight years in federal prison—years that were the most productive of his life because that’s where he became a servant leader. \nToday\, Mark is the VP of Culture & Care with Coca-Cola Consolidated\, Inc.\, the largest Coca-Cola bottler in the United States. \nTeam Tactics is a couples' initiative within the Central Florida Christian Chamber designed to create community among fellow members who work in business with their spouses and provide a space to address the unique challenges of working together while maintaining a healthy marriage. Facilitated by our Three Cord Marriage Founders: Raymond & Leslie Funk \nGrab your lunch and join us on the 1st Wednesday of each month! \nThis is a virtual conversation. The Zoom link will be emailed to all who register. \nFollow this link to register.
URL:https://www.threecordmarriage.com/event/feb2025-team-tactics/
LOCATION:Virtual
CATEGORIES:Couples in Business
ATTACH;FMTTYPE=image/jpeg:https://www.threecordmarriage.com/wp-content/uploads/2025/01/February-2025_1000px-Compressed.jpg
END:VEVENT
BEGIN:VEVENT
DTSTART;TZID=America/New_York:20250208T180000
DTEND;TZID=America/New_York:20250208T200000
DTSTAMP:20260422T194608
CREATED:20241210T192511Z
LAST-MODIFIED:20250128T184251Z
UID:2664-1739037600-1739044800@www.threecordmarriage.com
SUMMARY:TCM Alliance Meetup: February 8\, 2025
DESCRIPTION:The TCM Alliance Meetup\nStrengthen Your Marriage. Build Lasting Connections. Unlock the Full Potential of Your Marriage. \nThis Month we welcome our Marksman Expert Guest: Brianna Cacamese\, Founder of Self-Love Starts Now - Teaching Healthy Self-Love: Loving Self Without Being Self-Centered\n\n\n\n\n\n\n\n\n\nDo you think it’s selfish to practice self-love?\nHow can loving yourself help you love your spouse better?\nWhat does self-love look like in a healthy marriage?\n\n \nMark your calendar for the second Saturday of every month and step into a powerful community designed to help you thrive in your marriage. Whether you're engaged\, newly married\, or have been together for decades\, the TCM Alliance Meetup is where couples unite to strengthen their bond\, deepen their faith\, and grow through life’s challenges—together. \nRooted in the truth of Ecclesiastes 4:12 (“A cord of three strands is not easily broken”)\, this monthly gathering offers: \n\nAuthentic Connection: Share a meal\, laugh\, and celebrate life with couples committed to walking out their vows in marriage.\nShared Wisdom: Learn from couples in all stages of life. Every story—whether of triumph or trial—is a testimony that can inspire\, embolden\, and remind you that you’re never alone on this journey.\nBiblical Insights: Engage in group discussions led by TCM founders and guest experts\, covering topics like communication\, healing\, and intimacy.\nPractical Tools: Gain wisdom and actionable strategies to overcome challenges and grow stronger in your relationship.\n\nHosted in the welcoming home of TCM founders Raymond and Leslie Funk in downtown Orlando\, this evening is more than just a gathering—it’s an investment in your relationship. With laughter\, shared meals\, and meaningful conversation\, you'll leave emboldened and empowered to face life’s challenges together. \nNot Local? Can’t Make It In Person?\nJoin us via Zoom for the discussion portion of the evening. While the experience is best in person\, we’re excited to extend our community to those who can’t be physically present. \n\n\n\n\n\n\nWhy Attend?\nHere’s what couples are saying:\n"Leslie and Raymond are as real as it gets. Their transparency\, wisdom\, and focus on God’s Word have transformed how we approach marriage."\n"This group has become family—a place where we can laugh\, cry\, and grow together in faith." \nEach month brings fresh inspiration\, expert-led discussions\, and opportunities to connect with other couples while learning from their unique experiences. Quarterly\, we host guest speakers on transformative topics like: \n\n“Stronger Marriage: The Key to Professional Success”\n“Secrets to Great Connection & Communication”\n“Understanding Trauma in Marriage: How to Find Healing”\n\nWe also incorporate fun Date Nights like bowling\, comedy shows\, and dinner outings to keep the spark alive! \nDetails to Know:\n\nRSVP is required. Save your seats at the table. Registration is per couple and closes the Friday before each meetup. Address along with the potluck theme of the month will be sent with registration confirmation.\nChildcare is not provided. This is your time to connect without distractions.\nCouples can attend up to two meetups before deciding to become TCM Alliance Members.\n\nAlliance Sustaining Member Donor: As a thank your for your monthly giving\, we offer this Alliance Meetup to provide you with purpose-driven community to strengthen your marriage. Your generosity helps sustain this ministry\, providing impactful experiences like this one and more outreach events for the community to support the mission of strengthening marriages\, defending families\, and transforming communities. \nJoin us In The Fight...Together and Transform Your Marriage.\nSeats are limited—don’t miss this opportunity to invest in your marriage\, build lifelong connections\, and experience the joy of a marriage lived out as God intended. \n👉 RSVP Now or Become a TCM Alliance Member Today!
URL:https://www.threecordmarriage.com/event/feb25-alliance-meetup/
LOCATION:TCM Headquarters 32803
CATEGORIES:Couples' Alliance
ATTACH;FMTTYPE=image/jpeg:https://www.threecordmarriage.com/wp-content/uploads/2024/12/TCM-Alliance-Meetup-16x9-1000px-Compressed.jpg
END:VEVENT
BEGIN:VEVENT
DTSTART;TZID=America/New_York:20250210T160000
DTEND;TZID=America/New_York:20250214T053000
DTSTAMP:20260422T194608
CREATED:20241211T003452Z
LAST-MODIFIED:20241226T181118Z
UID:2684-1739203200-1739511000@www.threecordmarriage.com
SUMMARY:No Marriage Is An Island Valentine's Cruise Getaway
DESCRIPTION:Set Sail for Love and Connection!\n\nCelebrate Valentine’s Day like never before on the “No Marriage Is An Island” Social Cruise!\nReconnect\, refresh\, and reignite the spark in your marriage while creating unforgettable memories aboard Royal Caribbean’s newest Oasis-class ship\, Utopia of the Seas. \nWhat Awaits You? \n\nDeepen Your Connection: Rediscover the joy and unity in your marriage through shared adventures and intentional moments.\nBuild Community: Meet and bond with like-minded couples on the same journey to strengthen their relationships.\nAdventure and Relaxation: From engaging activities and fun challenges to free time for relaxation and exploration\, this getaway has it all.\nExclusive Perks: Book by October 1st and enjoy at least $50 onboard credit\, plus surprises you’ll love.\n\nDetails: \n\nDates: February 10–14\, 2025\nDestinations: Nassau\, Bahamas & CocoCay\, Bahamas\nShip: Utopia of the Seas\n\nDon’t let your marriage become an island. Reserve your spot now by contacting GG Mack at ggmack@travelmation.net for current availability and rates\, and join us for a Valentine’s celebration filled with love\, laughter\, and lasting memories. \nSecure Your Spot Today—Spaces Are Limited!
URL:https://www.threecordmarriage.com/event/no-marriage-is-an-island-valentines-cruise-2025/
LOCATION:Cruise Terminal 1 - Port Canaveral\, 9050 Discovery Rd\, Cape Canaveral\, FL\, 32920\, United States
CATEGORIES:Marriage Retreat
ATTACH;FMTTYPE=image/jpeg:https://www.threecordmarriage.com/wp-content/uploads/2024/12/Cruise-16_9-1000px-Compressed.jpg
END:VEVENT
BEGIN:VEVENT
DTSTART;TZID=America/New_York:20250214T170000
DTEND;TZID=America/New_York:20250214T233000
DTSTAMP:20260422T194608
CREATED:20250127T214532Z
LAST-MODIFIED:20250127T223303Z
UID:2799-1739552400-1739575800@www.threecordmarriage.com
SUMMARY:Come See Us at Decision Tactical! Mr. & Mrs. Smith Valentine's Weekend
DESCRIPTION:Join Us This Valentine’s Weekend at Decision Tactical! \nExperience the most AMAZING Simulation Shooting Range in the country\, right here in Sanford! Three Cord Marriage will be in the lobby\, and we’d love to meet you. \nDon’t miss Decision Tactical’s Mr. & Mrs. Smith Valentine’s Special! We did it last year and absolutely LOVED every moment—this experience is truly one-of-a-kind! Plus\, the food is incredible (seriously\, nothing disappoints). \nStop by to say hello\, or better yet\, take advantage of this amazing deal and create unforgettable memories with your Valentine! \nP.S. This is NOT live fire shooting. It is all simulation so no firearm handling experience is needed. Intimidated with firearms\, no worry\, this is your opportunity to train as realistic as possible without live ammunition! \n  \nHere are the details from Decision Tactical's Website: \n \nThis upcoming Valentine’s Day weekend\, suit up and step into the thrilling world of Mr. & Mrs. Smith! Dress to impress and team up with your partner for a night of romance\, rivalry\, and target practice. \nHere’s what’s in store for you and your partner-in-crime: \n– 2 delicious entrées\n– 1 shared appetizer\n– Glass of house wine or draft beer each (we had some amazing mocktails last year)\n– 2 experiences run as a duo\, 1 range challenge for each \nAll this for only $100—a $140 value! \nWhether you’re looking to spark romance\, settle the debate of “who’s the better shot\,” or just have an unforgettable date night\, this event is perfect for couples ready to mix love with a little friendly rivalry. \nDon’t miss your shot\, reserve your package now at https://bit.ly/3PCFYuw! \nGratuity of $12 will be added. Taxes not included.
URL:https://www.threecordmarriage.com/event/d-tac-valentine-special-feb-14/
LOCATION:Decision Tactical\, 430 Towne Center Cir.\, Suite A\, Sanford\, FL\, 32771\, United States
ATTACH;FMTTYPE=image/jpeg:https://www.threecordmarriage.com/wp-content/uploads/2025/01/D-Tac-Valentine-Presentation-1000px.jpg
END:VEVENT
BEGIN:VEVENT
DTSTART;TZID=America/New_York:20250215T110000
DTEND;TZID=America/New_York:20250215T233000
DTSTAMP:20260422T194608
CREATED:20250127T220756Z
LAST-MODIFIED:20250127T223231Z
UID:2812-1739617200-1739662200@www.threecordmarriage.com
SUMMARY:Come See Us at Decision Tactical! Mr. & Mrs. Smith Valentine's Weekend
DESCRIPTION:Join Us This Valentine’s Weekend at Decision Tactical! \nExperience the most AMAZING Simulation Shooting Range in the country\, right here in Sanford! Three Cord Marriage will be in the lobby\, and we’d love to meet you. \nDon’t miss Decision Tactical’s Mr. & Mrs. Smith Valentine’s Special! We did it last year and absolutely LOVED every moment—this experience is truly one-of-a-kind! Plus\, the food is incredible (seriously\, nothing disappoints). \nStop by to say hello\, or better yet\, take advantage of this amazing deal and create unforgettable memories with your Valentine! \nP.S. This is NOT live fire shooting. It is all simulation so no firearm handling experience is needed. Intimidated with firearms\, no worry\, this is your opportunity to train as realistic as possible without live ammunition! \n  \nHere are the details from Decision Tactical's Website: \n \nThis upcoming Valentine’s Day weekend\, suit up and step into the thrilling world of Mr. & Mrs. Smith! Dress to impress and team up with your partner for a night of romance\, rivalry\, and target practice. \nHere’s what’s in store for you and your partner-in-crime: \n– 2 delicious entrées\n– 1 shared appetizer\n– Glass of house wine or draft beer each (we had some amazing mocktails last year)\n– 2 experiences run as a duo\, 1 range challenge for each \nAll this for only $100—a $140 value! \nWhether you’re looking to spark romance\, settle the debate of “who’s the better shot\,” or just have an unforgettable date night\, this event is perfect for couples ready to mix love with a little friendly rivalry. \nDon’t miss your shot\, reserve your package now at https://bit.ly/3PCFYuw! \nGratuity of $12 will be added. Taxes not included.
URL:https://www.threecordmarriage.com/event/d-tac-valentine-special-feb-15/
LOCATION:Decision Tactical\, 430 Towne Center Cir.\, Suite A\, Sanford\, FL\, 32771\, United States
ATTACH;FMTTYPE=image/jpeg:https://www.threecordmarriage.com/wp-content/uploads/2025/01/D-Tac-Valentine-Presentation-1000px.jpg
END:VEVENT
BEGIN:VEVENT
DTSTART;TZID=America/New_York:20250216T110000
DTEND;TZID=America/New_York:20250216T233000
DTSTAMP:20260422T194608
CREATED:20250127T220951Z
LAST-MODIFIED:20250127T223246Z
UID:2814-1739703600-1739748600@www.threecordmarriage.com
SUMMARY:Come Meet Us at Decision Tactical! Mr. & Mrs. Smith Valentine's Weekend
DESCRIPTION:Join Us This Valentine’s Weekend at Decision Tactical! \nExperience the most AMAZING Simulation Shooting Range in the country\, right here in Sanford! Three Cord Marriage will be in the lobby\, and we’d love to meet you. \nDon’t miss Decision Tactical’s Mr. & Mrs. Smith Valentine’s Special! We did it last year and absolutely LOVED every moment—this experience is truly one-of-a-kind! Plus\, the food is incredible (seriously\, nothing disappoints). \nStop by to say hello\, or better yet\, take advantage of this amazing deal and create unforgettable memories with your Valentine! \nP.S. This is NOT live fire shooting. It is all simulation so no firearm handling experience is needed. Intimidated with firearms\, no worry\, this is your opportunity to train as realistic as possible without live ammunition! \n  \nHere are the details from Decision Tactical's Website: \n \nThis upcoming Valentine’s Day weekend\, suit up and step into the thrilling world of Mr. & Mrs. Smith! Dress to impress and team up with your partner for a night of romance\, rivalry\, and target practice. \nHere’s what’s in store for you and your partner-in-crime: \n– 2 delicious entrées\n– 1 shared appetizer\n– Glass of house wine or draft beer each (we had some amazing mocktails last year)\n– 2 experiences run as a duo\, 1 range challenge for each \nAll this for only $100—a $140 value! \nWhether you’re looking to spark romance\, settle the debate of “who’s the better shot\,” or just have an unforgettable date night\, this event is perfect for couples ready to mix love with a little friendly rivalry. \nDon’t miss your shot\, reserve your package now at https://bit.ly/3PCFYuw! \nGratuity of $12 will be added. Taxes not included.
URL:https://www.threecordmarriage.com/event/d-tac-valentine-special-feb-16/
LOCATION:Decision Tactical\, 430 Towne Center Cir.\, Suite A\, Sanford\, FL\, 32771\, United States
ATTACH;FMTTYPE=image/jpeg:https://www.threecordmarriage.com/wp-content/uploads/2025/01/D-Tac-Valentine-Presentation-1000px.jpg
END:VEVENT
END:VCALENDAR