BEGIN:VCALENDAR
VERSION:2.0
PRODID:-//Three Cord Marriage - ECPv6.15.13//NONSGML v1.0//EN
CALSCALE:GREGORIAN
METHOD:PUBLISH
X-ORIGINAL-URL:https://www.threecordmarriage.com
X-WR-CALDESC:Events for Three Cord Marriage
REFRESH-INTERVAL;VALUE=DURATION:PT1H
X-Robots-Tag:noindex
X-PUBLISHED-TTL:PT1H
BEGIN:VTIMEZONE
TZID:America/New_York
BEGIN:DAYLIGHT
TZOFFSETFROM:-0500
TZOFFSETTO:-0400
TZNAME:EDT
DTSTART:20250309T070000
END:DAYLIGHT
BEGIN:STANDARD
TZOFFSETFROM:-0400
TZOFFSETTO:-0500
TZNAME:EST
DTSTART:20251102T060000
END:STANDARD
BEGIN:DAYLIGHT
TZOFFSETFROM:-0500
TZOFFSETTO:-0400
TZNAME:EDT
DTSTART:20260308T070000
END:DAYLIGHT
BEGIN:STANDARD
TZOFFSETFROM:-0400
TZOFFSETTO:-0500
TZNAME:EST
DTSTART:20261101T060000
END:STANDARD
BEGIN:DAYLIGHT
TZOFFSETFROM:-0500
TZOFFSETTO:-0400
TZNAME:EDT
DTSTART:20270314T070000
END:DAYLIGHT
BEGIN:STANDARD
TZOFFSETFROM:-0400
TZOFFSETTO:-0500
TZNAME:EST
DTSTART:20271107T060000
END:STANDARD
END:VTIMEZONE
BEGIN:VEVENT
DTSTART;TZID=America/New_York:20260204T113000
DTEND;TZID=America/New_York:20260204T130000
DTSTAMP:20260422T053706
CREATED:20251217T182810Z
LAST-MODIFIED:20260112T205154Z
UID:3139-1770204600-1770210000@www.threecordmarriage.com
SUMMARY:Team Tactics Couples in Business | February 4
DESCRIPTION:Three Cord Marriage serves the Central Florida Christian Chamber by leading Team Tactics\, a couples in business initiative for members of the Chamber who desire to strengthen both their marriage and their business in God’s order. \nThis monthly gathering provides a Scripture-centered space to connect with other couples in business\, engage in meaningful conversation\, and address the unique dynamics of leading together at home and in the marketplace. \nLet's celebrate Valentine's early together! \nThank you to our Lunch Sponsor Rock & Brews Oviedo for hosting us! \n11:30–1:00 | Fellowship & Lunch  \nPlease RSVP by Monday\, February 2nd so we can ensure we have a seat set for you at the table.
URL:https://www.threecordmarriage.com/event/team-tactics-feb-2026/
LOCATION:Rock & Brews Oviedo
CATEGORIES:Couples in Business
ATTACH;FMTTYPE=image/jpeg:https://www.threecordmarriage.com/wp-content/uploads/2025/12/Valentines-Lunch-Graphic-600px-compressed.jpg
ORGANIZER;CN="Three Cord Marriage%2C Inc.":MAILTO:info@ThreeCordMarriage.com
END:VEVENT
END:VCALENDAR