BEGIN:VCALENDAR
VERSION:2.0
PRODID:-//Three Cord Marriage - ECPv6.15.13//NONSGML v1.0//EN
CALSCALE:GREGORIAN
METHOD:PUBLISH
X-WR-CALNAME:Three Cord Marriage
X-ORIGINAL-URL:https://www.threecordmarriage.com
X-WR-CALDESC:Events for Three Cord Marriage
REFRESH-INTERVAL;VALUE=DURATION:PT1H
X-Robots-Tag:noindex
X-PUBLISHED-TTL:PT1H
BEGIN:VTIMEZONE
TZID:America/New_York
BEGIN:DAYLIGHT
TZOFFSETFROM:-0500
TZOFFSETTO:-0400
TZNAME:EDT
DTSTART:20240310T070000
END:DAYLIGHT
BEGIN:STANDARD
TZOFFSETFROM:-0400
TZOFFSETTO:-0500
TZNAME:EST
DTSTART:20241103T060000
END:STANDARD
BEGIN:DAYLIGHT
TZOFFSETFROM:-0500
TZOFFSETTO:-0400
TZNAME:EDT
DTSTART:20250309T070000
END:DAYLIGHT
BEGIN:STANDARD
TZOFFSETFROM:-0400
TZOFFSETTO:-0500
TZNAME:EST
DTSTART:20251102T060000
END:STANDARD
BEGIN:DAYLIGHT
TZOFFSETFROM:-0500
TZOFFSETTO:-0400
TZNAME:EDT
DTSTART:20260308T070000
END:DAYLIGHT
BEGIN:STANDARD
TZOFFSETFROM:-0400
TZOFFSETTO:-0500
TZNAME:EST
DTSTART:20261101T060000
END:STANDARD
END:VTIMEZONE
BEGIN:VEVENT
DTSTART;TZID=America/New_York:20251207T083000
DTEND;TZID=America/New_York:20251207T173000
DTSTAMP:20260422T082527
CREATED:20251106T200643Z
LAST-MODIFIED:20251106T200643Z
UID:3106-1765096200-1765128600@www.threecordmarriage.com
SUMMARY:Tactical Marriage Training Day | December 7
DESCRIPTION:Tactical Training. Real-Life Scenarios. Unbreakable Marriages.\nThis isn’t just another seminar—it’s an intense\, hands-on experience!\nWHAT TO EXPECT \n\nThrilling immersive simulated firearm scenario training that tests your communication and teamwork skills\nTrain with some of the best in tactical operations and in marriage equipping to take your defensive skills and marriage to the next level\nBattle tested marriage tactics\, Biblically based\nMemorable experiences that will reignite the spark in your relationship and leave you empowered as a unified team\nAll-inclusive with equipment\, materials\, lunch and snacks\nOpportunities to connect with like-minded couples in a small group setting\, limited to 12 couples\nNo firearms handling experience required\, but even if you do have years of experience\, you will learn new strategies with your spouse from expert instructors with over 35 years of experience\n\nAre you ready to step up\, strengthen your connection\, and train like your marriage depends on it? Because it does.\nFor details and registration: https://www.threecordmarriage.com/tactical-marriage-training-day/
URL:https://www.threecordmarriage.com/event/tactical-marriage-training-day-december-7/
LOCATION:Decision Tactical\, 430 Towne Center Cir.\, Suite A\, Sanford\, FL\, 32771\, United States
CATEGORIES:Marriage Conference,Tactical Training
ATTACH;FMTTYPE=image/jpeg:https://www.threecordmarriage.com/wp-content/uploads/2025/11/TMTD-169-1-600px-Compressed.jpg
ORGANIZER;CN="Three Cord Marriage%2C Inc.":MAILTO:info@ThreeCordMarriage.com
END:VEVENT
END:VCALENDAR