BEGIN:VCALENDAR
VERSION:2.0
PRODID:-//Three Cord Marriage - ECPv6.15.13//NONSGML v1.0//EN
CALSCALE:GREGORIAN
METHOD:PUBLISH
X-WR-CALNAME:Three Cord Marriage
X-ORIGINAL-URL:https://www.threecordmarriage.com
X-WR-CALDESC:Events for Three Cord Marriage
REFRESH-INTERVAL;VALUE=DURATION:PT1H
X-Robots-Tag:noindex
X-PUBLISHED-TTL:PT1H
BEGIN:VTIMEZONE
TZID:America/New_York
BEGIN:DAYLIGHT
TZOFFSETFROM:-0500
TZOFFSETTO:-0400
TZNAME:EDT
DTSTART:20240310T070000
END:DAYLIGHT
BEGIN:STANDARD
TZOFFSETFROM:-0400
TZOFFSETTO:-0500
TZNAME:EST
DTSTART:20241103T060000
END:STANDARD
BEGIN:DAYLIGHT
TZOFFSETFROM:-0500
TZOFFSETTO:-0400
TZNAME:EDT
DTSTART:20250309T070000
END:DAYLIGHT
BEGIN:STANDARD
TZOFFSETFROM:-0400
TZOFFSETTO:-0500
TZNAME:EST
DTSTART:20251102T060000
END:STANDARD
BEGIN:DAYLIGHT
TZOFFSETFROM:-0500
TZOFFSETTO:-0400
TZNAME:EDT
DTSTART:20260308T070000
END:DAYLIGHT
BEGIN:STANDARD
TZOFFSETFROM:-0400
TZOFFSETTO:-0500
TZNAME:EST
DTSTART:20261101T060000
END:STANDARD
END:VTIMEZONE
BEGIN:VEVENT
DTSTART;TZID=America/New_York:20251018T193000
DTEND;TZID=America/New_York:20251018T210000
DTSTAMP:20260422T111151
CREATED:20250826T165653Z
LAST-MODIFIED:20251015T222116Z
UID:3054-1760815800-1760821200@www.threecordmarriage.com
SUMMARY:Clean Comedy Date Night Tour
DESCRIPTION:Clean Comedy Date Night Tour – Orlando 2025\nAn unforgettable night of laughter\, connection\, and purpose—right here in Orlando! New Year...New Comedians! \nIt’s time for a date night that leaves you smiling\, not cringing. Clean Comedy Date Night is back in Orlando—and this year will be bigger than ever! \nClean Comedy Date Night brings you high-energy\, laugh-out-loud entertainment from some of the best professional clean comedians featured on Dry Bar Comedy. \nBut this isn’t just about comedy—it’s about connection. When you join us\, you’ll: \n\nShare unforgettable memories with your spouse\, fiancé\, or special someone.\nEnjoy an affordable night out in a positive\, uplifting environment.\nSupport marriages and families through the work of Three Cord Marriage\, a local nonprofit committed to strengthening marriages\, defending families\, and transforming our community.\n\n💡Every ticket you purchase fuels the mission of Three Cord Marriage\, a ministry equipping couples with the tools to build thriving marriages. When you laugh with us\, you’re also joining the fight for marriages across Central Florida and beyond. \n🎟️ Tickets are limited and last year’s event sold out—don’t wait! Don’t wait—secure your seats today and give your relationship the gift of laughter. \n👉 Want to make an even bigger impact? Sponsorship opportunities are available for businesses and organizations who want to stand out while standing for families. \nReserve your spot now—because the best memories don’t wait.
URL:https://www.threecordmarriage.com/event/clean-comedy-date-night/
LOCATION:Boone High School Performing Arts Center\, 1000 E Kaley St\, Orlando\, FL\, 32806\, United States
CATEGORIES:Date Night,Fundraiser
ATTACH;FMTTYPE=image/jpeg:https://www.threecordmarriage.com/wp-content/uploads/2025/08/Clean-Comedy-Date-Night-2025-1920-x-1080-px-600px-Compressed.jpg
ORGANIZER;CN="Three Cord Marriage%2C Inc.":MAILTO:info@ThreeCordMarriage.com
END:VEVENT
END:VCALENDAR