BEGIN:VCALENDAR
VERSION:2.0
PRODID:-//Three Cord Marriage - ECPv6.15.13//NONSGML v1.0//EN
CALSCALE:GREGORIAN
METHOD:PUBLISH
X-WR-CALNAME:Three Cord Marriage
X-ORIGINAL-URL:https://www.threecordmarriage.com
X-WR-CALDESC:Events for Three Cord Marriage
REFRESH-INTERVAL;VALUE=DURATION:PT1H
X-Robots-Tag:noindex
X-PUBLISHED-TTL:PT1H
BEGIN:VTIMEZONE
TZID:America/New_York
BEGIN:DAYLIGHT
TZOFFSETFROM:-0500
TZOFFSETTO:-0400
TZNAME:EDT
DTSTART:20240310T070000
END:DAYLIGHT
BEGIN:STANDARD
TZOFFSETFROM:-0400
TZOFFSETTO:-0500
TZNAME:EST
DTSTART:20241103T060000
END:STANDARD
BEGIN:DAYLIGHT
TZOFFSETFROM:-0500
TZOFFSETTO:-0400
TZNAME:EDT
DTSTART:20250309T070000
END:DAYLIGHT
BEGIN:STANDARD
TZOFFSETFROM:-0400
TZOFFSETTO:-0500
TZNAME:EST
DTSTART:20251102T060000
END:STANDARD
BEGIN:DAYLIGHT
TZOFFSETFROM:-0500
TZOFFSETTO:-0400
TZNAME:EDT
DTSTART:20260308T070000
END:DAYLIGHT
BEGIN:STANDARD
TZOFFSETFROM:-0400
TZOFFSETTO:-0500
TZNAME:EST
DTSTART:20261101T060000
END:STANDARD
END:VTIMEZONE
BEGIN:VEVENT
DTSTART;TZID=America/New_York:20250912T190000
DTEND;TZID=America/New_York:20250913T203000
DTSTAMP:20260422T124649
CREATED:20250813T200551Z
LAST-MODIFIED:20250813T200735Z
UID:3034-1757703600-1757795400@www.threecordmarriage.com
SUMMARY:The Power of Marriage | Marriage Conference by CfAN & Nations Church
DESCRIPTION:Strengthen your marriage at CfaN's The Power of Marriage Conference hosted by Nations Church during this 2-day event. \nThree Cord Marriage has the honor of being guests leading sessions during this amazing weekend conference alongside some of Nations Church leadership and special guest\, Ted Cunningham. \nClick here for more details and registration.
URL:https://www.threecordmarriage.com/event/the-power-of-marriage-marriage-conference-by-cfan-nations-church/
LOCATION:Nations Church - Oakridge\, 6177 Lake Ellenor Dr.\, Orlando\, FL\, 32809\, United States
CATEGORIES:Marriage Conference
ATTACH;FMTTYPE=image/jpeg:https://www.threecordmarriage.com/wp-content/uploads/2025/08/medium_image-1754418547111.jpg
END:VEVENT
BEGIN:VEVENT
DTSTART;TZID=America/New_York:20250913T180000
DTEND;TZID=America/New_York:20250913T210000
DTSTAMP:20260422T124649
CREATED:20241211T014818Z
LAST-MODIFIED:20250813T195501Z
UID:2713-1757786400-1757797200@www.threecordmarriage.com
SUMMARY:TCM Alliance Meetup: September 13\, 2025
DESCRIPTION:The TCM Alliance Meetup | DATE NIGHT\nDetails to Know:\n\nRSVP is required. We want to know who to expect and meet-up with. Registration is per couple and closes the Friday before each meetup. Details will be sent with registration confirmation.\nChildcare is not provided. This is your time to connect without distractions.\nCouples can attend up to two meetups before deciding to become TCM Alliance Members.\n\nAlliance Sustaining Member: As a thank your for your monthly tax-deductible giving\, we offer this Alliance Meetup to provide you with purpose-driven community to strengthen your marriage. Your generosity helps fuel the mission of Three Cord Marriage. STRENGTHEN MARRIAGE\, DEFEND THE FAMILY\, to TRANSFORM THE NATIONS! \nJoin us In The Fight...Together and Up-Level Your Marriage.\nDon’t miss this opportunity to invest in your marriage\, build lifelong connections\, and experience the joy of a marriage lived out as God intended. \n👉 RSVP Now or Become a TCM Alliance Member Today! \n\nThis month is our DATE NIGHT out!\n\nJoin us for some fun and fellowship! More info on RSVP page.
URL:https://www.threecordmarriage.com/event/sep25-alliance-meetup/
LOCATION:Icon Park
CATEGORIES:Couples' Alliance
ATTACH;FMTTYPE=image/jpeg:https://www.threecordmarriage.com/wp-content/uploads/2024/12/TCM-Alliance-Meetup-16x9-1000px-Compressed.jpg
END:VEVENT
END:VCALENDAR