BEGIN:VCALENDAR
VERSION:2.0
PRODID:-//Three Cord Marriage - ECPv6.15.13//NONSGML v1.0//EN
CALSCALE:GREGORIAN
METHOD:PUBLISH
X-WR-CALNAME:Three Cord Marriage
X-ORIGINAL-URL:https://www.threecordmarriage.com
X-WR-CALDESC:Events for Three Cord Marriage
REFRESH-INTERVAL;VALUE=DURATION:PT1H
X-Robots-Tag:noindex
X-PUBLISHED-TTL:PT1H
BEGIN:VTIMEZONE
TZID:America/New_York
BEGIN:DAYLIGHT
TZOFFSETFROM:-0500
TZOFFSETTO:-0400
TZNAME:EDT
DTSTART:20240310T070000
END:DAYLIGHT
BEGIN:STANDARD
TZOFFSETFROM:-0400
TZOFFSETTO:-0500
TZNAME:EST
DTSTART:20241103T060000
END:STANDARD
BEGIN:DAYLIGHT
TZOFFSETFROM:-0500
TZOFFSETTO:-0400
TZNAME:EDT
DTSTART:20250309T070000
END:DAYLIGHT
BEGIN:STANDARD
TZOFFSETFROM:-0400
TZOFFSETTO:-0500
TZNAME:EST
DTSTART:20251102T060000
END:STANDARD
BEGIN:DAYLIGHT
TZOFFSETFROM:-0500
TZOFFSETTO:-0400
TZNAME:EDT
DTSTART:20260308T070000
END:DAYLIGHT
BEGIN:STANDARD
TZOFFSETFROM:-0400
TZOFFSETTO:-0500
TZNAME:EST
DTSTART:20261101T060000
END:STANDARD
END:VTIMEZONE
BEGIN:VEVENT
DTSTART;TZID=America/New_York:20250713T133000
DTEND;TZID=America/New_York:20250713T173000
DTSTAMP:20260422T151933
CREATED:20250612T185755Z
LAST-MODIFIED:20250612T192301Z
UID:2979-1752413400-1752427800@www.threecordmarriage.com
SUMMARY:Women's Only Self-Defense Training | Private Group
DESCRIPTION:Women's Exclusive Self-Defense Workshop \n“Classroom” Curriculum: USCCA’s Staying Safe in An Unsafe World: Less Lethal for Self-Defense – this course equips you with practical\, less-lethal self-defense skills designed to help you protect yourself and defuse dangerous situations without resorting to deadly force (use of a firearm). \nYou’ll learn to recognize potential threats early\, employ effective de-escalation tactics\, and utilize tools like pepper spray\, and other non-lethal devices. \nGain confidence and peace of mind knowing you can stay safe while avoiding life-altering consequences. This training is essential for anyone wanting to feel secure in any environment. \nTopics in course include: Situational Awareness\, Our Bodies Responses\, Not Looking Like A Victim and more… \nHands-On Self-Defense Curriculum: Practical self-defense techniques and role playing developed specifically for your group from the instructor's well of 27 years of training expertise. \nThis exclusive 4-Hour training is just for your Women's Group. The first 2-Hours will be the Classroom Curriculum\, followed by 2-Hours of Hands-On Self-Defense Curriculum. \nInstructors: \nClassroom Curriculum Instructors: \nRaymond & Leslie Funk - Co-Founders of Three Cord Marriage \n\nCertified USCCA Concealed Carry & Home Defense Instructors\nCertified NRA Pistol Instructors\n\nHands-On Self-Defense Curriculum Lead Instructor: \nErik Gianini - Co-Owner and Head Instructor at American Martial Arts Academy \n\nSon of World Champion Karate and Kick-boxing legend Bobby Dixon.\nHe holds records and championships in muaythai.\nHe competes in MMA and BJJ.\nA third degree black belt in taekwondo.\nan NRA certified instructor in three disciplines\nAnd the list goes on….\nHe’s passionate about instructing and training others…
URL:https://www.threecordmarriage.com/event/womens-self-defense-training-july-2025/
LOCATION:FL
CATEGORIES:Tactical Training
ATTACH;FMTTYPE=image/jpeg:https://www.threecordmarriage.com/wp-content/uploads/2025/06/WOMENS-SELF-DEFENSE-TRAINING_600PX.jpg
END:VEVENT
END:VCALENDAR