BEGIN:VCALENDAR
VERSION:2.0
PRODID:-//Three Cord Marriage - ECPv6.15.13//NONSGML v1.0//EN
CALSCALE:GREGORIAN
METHOD:PUBLISH
X-WR-CALNAME:Three Cord Marriage
X-ORIGINAL-URL:https://www.threecordmarriage.com
X-WR-CALDESC:Events for Three Cord Marriage
REFRESH-INTERVAL;VALUE=DURATION:PT1H
X-Robots-Tag:noindex
X-PUBLISHED-TTL:PT1H
BEGIN:VTIMEZONE
TZID:America/New_York
BEGIN:DAYLIGHT
TZOFFSETFROM:-0500
TZOFFSETTO:-0400
TZNAME:EDT
DTSTART:20240310T070000
END:DAYLIGHT
BEGIN:STANDARD
TZOFFSETFROM:-0400
TZOFFSETTO:-0500
TZNAME:EST
DTSTART:20241103T060000
END:STANDARD
BEGIN:DAYLIGHT
TZOFFSETFROM:-0500
TZOFFSETTO:-0400
TZNAME:EDT
DTSTART:20250309T070000
END:DAYLIGHT
BEGIN:STANDARD
TZOFFSETFROM:-0400
TZOFFSETTO:-0500
TZNAME:EST
DTSTART:20251102T060000
END:STANDARD
BEGIN:DAYLIGHT
TZOFFSETFROM:-0500
TZOFFSETTO:-0400
TZNAME:EDT
DTSTART:20260308T070000
END:DAYLIGHT
BEGIN:STANDARD
TZOFFSETFROM:-0400
TZOFFSETTO:-0500
TZNAME:EST
DTSTART:20261101T060000
END:STANDARD
END:VTIMEZONE
BEGIN:VEVENT
DTSTART;TZID=America/New_York:20250210T160000
DTEND;TZID=America/New_York:20250214T053000
DTSTAMP:20260422T210040
CREATED:20241211T003452Z
LAST-MODIFIED:20241226T181118Z
UID:2684-1739203200-1739511000@www.threecordmarriage.com
SUMMARY:No Marriage Is An Island Valentine's Cruise Getaway
DESCRIPTION:Set Sail for Love and Connection!\n\nCelebrate Valentine’s Day like never before on the “No Marriage Is An Island” Social Cruise!\nReconnect\, refresh\, and reignite the spark in your marriage while creating unforgettable memories aboard Royal Caribbean’s newest Oasis-class ship\, Utopia of the Seas. \nWhat Awaits You? \n\nDeepen Your Connection: Rediscover the joy and unity in your marriage through shared adventures and intentional moments.\nBuild Community: Meet and bond with like-minded couples on the same journey to strengthen their relationships.\nAdventure and Relaxation: From engaging activities and fun challenges to free time for relaxation and exploration\, this getaway has it all.\nExclusive Perks: Book by October 1st and enjoy at least $50 onboard credit\, plus surprises you’ll love.\n\nDetails: \n\nDates: February 10–14\, 2025\nDestinations: Nassau\, Bahamas & CocoCay\, Bahamas\nShip: Utopia of the Seas\n\nDon’t let your marriage become an island. Reserve your spot now by contacting GG Mack at ggmack@travelmation.net for current availability and rates\, and join us for a Valentine’s celebration filled with love\, laughter\, and lasting memories. \nSecure Your Spot Today—Spaces Are Limited!
URL:https://www.threecordmarriage.com/event/no-marriage-is-an-island-valentines-cruise-2025/
LOCATION:Cruise Terminal 1 - Port Canaveral\, 9050 Discovery Rd\, Cape Canaveral\, FL\, 32920\, United States
CATEGORIES:Marriage Retreat
ATTACH;FMTTYPE=image/jpeg:https://www.threecordmarriage.com/wp-content/uploads/2024/12/Cruise-16_9-1000px-Compressed.jpg
END:VEVENT
END:VCALENDAR