BEGIN:VCALENDAR
VERSION:2.0
PRODID:-//Three Cord Marriage - ECPv6.15.13//NONSGML v1.0//EN
CALSCALE:GREGORIAN
METHOD:PUBLISH
X-WR-CALNAME:Three Cord Marriage
X-ORIGINAL-URL:https://www.threecordmarriage.com
X-WR-CALDESC:Events for Three Cord Marriage
REFRESH-INTERVAL;VALUE=DURATION:PT1H
X-Robots-Tag:noindex
X-PUBLISHED-TTL:PT1H
BEGIN:VTIMEZONE
TZID:America/New_York
BEGIN:DAYLIGHT
TZOFFSETFROM:-0500
TZOFFSETTO:-0400
TZNAME:EDT
DTSTART:20240310T070000
END:DAYLIGHT
BEGIN:STANDARD
TZOFFSETFROM:-0400
TZOFFSETTO:-0500
TZNAME:EST
DTSTART:20241103T060000
END:STANDARD
BEGIN:DAYLIGHT
TZOFFSETFROM:-0500
TZOFFSETTO:-0400
TZNAME:EDT
DTSTART:20250309T070000
END:DAYLIGHT
BEGIN:STANDARD
TZOFFSETFROM:-0400
TZOFFSETTO:-0500
TZNAME:EST
DTSTART:20251102T060000
END:STANDARD
BEGIN:DAYLIGHT
TZOFFSETFROM:-0500
TZOFFSETTO:-0400
TZNAME:EDT
DTSTART:20260308T070000
END:DAYLIGHT
BEGIN:STANDARD
TZOFFSETFROM:-0400
TZOFFSETTO:-0500
TZNAME:EST
DTSTART:20261101T060000
END:STANDARD
END:VTIMEZONE
BEGIN:VEVENT
DTSTART;TZID=America/New_York:20250205T113000
DTEND;TZID=America/New_York:20250205T130000
DTSTAMP:20260422T210029
CREATED:20250102T152938Z
LAST-MODIFIED:20250102T153540Z
UID:2771-1738755000-1738760400@www.threecordmarriage.com
SUMMARY:Team Tactics: A Candid Chat with Mark & Ginger Whitacre
DESCRIPTION:THIS MONTH ONLY: OPEN TO COUPLES WHO ARE NOT YET MEMBERS OF THE CENTRAL FLORIDA CHRISTIAN CHAMBER \nWe've been honored to hear the radical testimony of Mark Whitacre\, VP of Culture & Care at Coca-Cola Consolidated\, and his journey from atheist - to informant - to lover of Jesus. This month\, we will have the privilege of having a conversation with both Mark & his wife\, Ginger\, as they share their wisdom with us and we hear  Ginger's point-of-view! \nMark is the highest-level executive ever to turn whistleblower in U.S. history. He worked undercover with the FBI for three years during their investigation of Archer Daniels Midland (ADM) and a billion-dollar international price-fixing scheme. \nFor his role in the scheme\, Mark spent more than eight years in federal prison—years that were the most productive of his life because that’s where he became a servant leader. \nToday\, Mark is the VP of Culture & Care with Coca-Cola Consolidated\, Inc.\, the largest Coca-Cola bottler in the United States. \nTeam Tactics is a couples' initiative within the Central Florida Christian Chamber designed to create community among fellow members who work in business with their spouses and provide a space to address the unique challenges of working together while maintaining a healthy marriage. Facilitated by our Three Cord Marriage Founders: Raymond & Leslie Funk \nGrab your lunch and join us on the 1st Wednesday of each month! \nThis is a virtual conversation. The Zoom link will be emailed to all who register. \nFollow this link to register.
URL:https://www.threecordmarriage.com/event/feb2025-team-tactics/
LOCATION:Virtual
CATEGORIES:Couples in Business
ATTACH;FMTTYPE=image/jpeg:https://www.threecordmarriage.com/wp-content/uploads/2025/01/February-2025_1000px-Compressed.jpg
END:VEVENT
END:VCALENDAR