BEGIN:VCALENDAR
VERSION:2.0
PRODID:-//Three Cord Marriage - ECPv6.15.13//NONSGML v1.0//EN
CALSCALE:GREGORIAN
METHOD:PUBLISH
X-WR-CALNAME:Three Cord Marriage
X-ORIGINAL-URL:https://www.threecordmarriage.com
X-WR-CALDESC:Events for Three Cord Marriage
REFRESH-INTERVAL;VALUE=DURATION:PT1H
X-Robots-Tag:noindex
X-PUBLISHED-TTL:PT1H
BEGIN:VTIMEZONE
TZID:America/New_York
BEGIN:DAYLIGHT
TZOFFSETFROM:-0500
TZOFFSETTO:-0400
TZNAME:EDT
DTSTART:20240310T070000
END:DAYLIGHT
BEGIN:STANDARD
TZOFFSETFROM:-0400
TZOFFSETTO:-0500
TZNAME:EST
DTSTART:20241103T060000
END:STANDARD
BEGIN:DAYLIGHT
TZOFFSETFROM:-0500
TZOFFSETTO:-0400
TZNAME:EDT
DTSTART:20250309T070000
END:DAYLIGHT
BEGIN:STANDARD
TZOFFSETFROM:-0400
TZOFFSETTO:-0500
TZNAME:EST
DTSTART:20251102T060000
END:STANDARD
BEGIN:DAYLIGHT
TZOFFSETFROM:-0500
TZOFFSETTO:-0400
TZNAME:EDT
DTSTART:20260308T070000
END:DAYLIGHT
BEGIN:STANDARD
TZOFFSETFROM:-0400
TZOFFSETTO:-0500
TZNAME:EST
DTSTART:20261101T060000
END:STANDARD
END:VTIMEZONE
BEGIN:VEVENT
DTSTART;TZID=America/New_York:20250118T110000
DTEND;TZID=America/New_York:20250118T150000
DTSTAMP:20260422T220156
CREATED:20241211T012606Z
LAST-MODIFIED:20241211T012606Z
UID:2697-1737198000-1737212400@www.threecordmarriage.com
SUMMARY:Defensive Shooting Fundamentals
DESCRIPTION:New to firearms or defensive shooting? This course is your perfect next step. \nOur Defensive Shooting Fundamentals class covers everything from understanding different types of handguns and ammunition to selecting the right firearm for your needs. You'll learn essential skills such as proper grip\, sight alignment\, shooting stances\, and trigger control\, as well as how to clear malfunctions and develop a personalized training program. \nExperience hands-on learning with live fire instruction\, putting into practice all the fundamentals you've acquired. \nYou'll also receive a personalized ammo can\, eye and in-ear protection (we recommend you bring over ear protection)\, and access to our collection of pistols if you do not yet own one (ammo will be additional cost if using one of our pistols). \nCome ready to learn\, improve\, and build confidence in your defensive shooting skills! \n👉 Register Now  \nRaymond & Leslie Funk are both USCCA Certified Concealed Carry & Home Defense Instructors\, NRA Certified Pistol Instructors\, NRA Certified Range Safety Officers. Our mission at Three Cord Marriage is to Strengthen Marriage\, Defend the Family\, and Transform the Community!
URL:https://www.threecordmarriage.com/event/defensive-shooting-fundamentals-011825/
LOCATION:Shoot Straight Apopka\, 1349 S Orange Blossom Trail\, Apopka\, FL\, 32703\, United States
CATEGORIES:Tactical Training
ATTACH;FMTTYPE=image/jpeg:https://www.threecordmarriage.com/wp-content/uploads/2024/12/Defensive-011825-16_9-1000px-Compressed.jpg
END:VEVENT
END:VCALENDAR