BEGIN:VCALENDAR
VERSION:2.0
PRODID:-//Three Cord Marriage - ECPv6.15.13//NONSGML v1.0//EN
CALSCALE:GREGORIAN
METHOD:PUBLISH
X-WR-CALNAME:Three Cord Marriage
X-ORIGINAL-URL:https://www.threecordmarriage.com
X-WR-CALDESC:Events for Three Cord Marriage
REFRESH-INTERVAL;VALUE=DURATION:PT1H
X-Robots-Tag:noindex
X-PUBLISHED-TTL:PT1H
BEGIN:VTIMEZONE
TZID:America/New_York
BEGIN:DAYLIGHT
TZOFFSETFROM:-0500
TZOFFSETTO:-0400
TZNAME:EDT
DTSTART:20240310T070000
END:DAYLIGHT
BEGIN:STANDARD
TZOFFSETFROM:-0400
TZOFFSETTO:-0500
TZNAME:EST
DTSTART:20241103T060000
END:STANDARD
BEGIN:DAYLIGHT
TZOFFSETFROM:-0500
TZOFFSETTO:-0400
TZNAME:EDT
DTSTART:20250309T070000
END:DAYLIGHT
BEGIN:STANDARD
TZOFFSETFROM:-0400
TZOFFSETTO:-0500
TZNAME:EST
DTSTART:20251102T060000
END:STANDARD
BEGIN:DAYLIGHT
TZOFFSETFROM:-0500
TZOFFSETTO:-0400
TZNAME:EDT
DTSTART:20260308T070000
END:DAYLIGHT
BEGIN:STANDARD
TZOFFSETFROM:-0400
TZOFFSETTO:-0500
TZNAME:EST
DTSTART:20261101T060000
END:STANDARD
END:VTIMEZONE
BEGIN:VEVENT
DTSTART;TZID=America/New_York:20250107T183000
DTEND;TZID=America/New_York:20250107T203000
DTSTAMP:20260422T220157
CREATED:20250102T160107Z
LAST-MODIFIED:20250102T160107Z
UID:2780-1736274600-1736281800@www.threecordmarriage.com
SUMMARY:Team Tactics New Year Cookout
DESCRIPTION:If you are a member of Central Florida Christian Chamber and are in business with your spouse\, grab 2 of the available seats at the Team Tactics New Year Cookout to kick off 2025! \nThis is an intimate gathering of 7 couples\, hosted by two of our Team Tactics members. Dinner is included\, so come ready for some authentic fellowship and great food. \nThis event is held at a residential home in Winter Springs\, FL. The address will be provided to those who register. \nRegister via this link. \n***REGISTRATION CLOSES THURSDAY\, JANUARY 2\, 2025.***
URL:https://www.threecordmarriage.com/event/jan25-team-tactics/
LOCATION:FL
CATEGORIES:Couples in Business
ATTACH;FMTTYPE=image/jpeg:https://www.threecordmarriage.com/wp-content/uploads/2025/01/January-2025_1000px-Compressed.jpg
END:VEVENT
END:VCALENDAR