BEGIN:VCALENDAR
VERSION:2.0
PRODID:-//Three Cord Marriage - ECPv6.15.13//NONSGML v1.0//EN
CALSCALE:GREGORIAN
METHOD:PUBLISH
X-WR-CALNAME:Three Cord Marriage
X-ORIGINAL-URL:https://www.threecordmarriage.com
X-WR-CALDESC:Events for Three Cord Marriage
REFRESH-INTERVAL;VALUE=DURATION:PT1H
X-Robots-Tag:noindex
X-PUBLISHED-TTL:PT1H
BEGIN:VTIMEZONE
TZID:America/New_York
BEGIN:DAYLIGHT
TZOFFSETFROM:-0500
TZOFFSETTO:-0400
TZNAME:EDT
DTSTART:20230312T070000
END:DAYLIGHT
BEGIN:STANDARD
TZOFFSETFROM:-0400
TZOFFSETTO:-0500
TZNAME:EST
DTSTART:20231105T060000
END:STANDARD
BEGIN:DAYLIGHT
TZOFFSETFROM:-0500
TZOFFSETTO:-0400
TZNAME:EDT
DTSTART:20240310T070000
END:DAYLIGHT
BEGIN:STANDARD
TZOFFSETFROM:-0400
TZOFFSETTO:-0500
TZNAME:EST
DTSTART:20241103T060000
END:STANDARD
BEGIN:DAYLIGHT
TZOFFSETFROM:-0500
TZOFFSETTO:-0400
TZNAME:EDT
DTSTART:20250309T070000
END:DAYLIGHT
BEGIN:STANDARD
TZOFFSETFROM:-0400
TZOFFSETTO:-0500
TZNAME:EST
DTSTART:20251102T060000
END:STANDARD
END:VTIMEZONE
BEGIN:VEVENT
DTSTART;TZID=America/New_York:20241227T140000
DTEND;TZID=America/New_York:20241227T170000
DTSTAMP:20260422T231339
CREATED:20241211T000853Z
LAST-MODIFIED:20241211T001239Z
UID:2679-1735308000-1735318800@www.threecordmarriage.com
SUMMARY:Florida Concealed Weapons License Course
DESCRIPTION:Note: Prior firearm handling experience is required. If you're new to firearms\, we recommend starting with our Defensive Shooting Fundamentals course before enrolling for this course.  \nUnlock your right to carry with confidence in our Florida CCW Permit class! This engaging course covers essential gun safety\, the ins and outs of Florida’s concealed carry and reciprocity laws\, training requirements\, application steps\, permit renewals\, and more. Learn where carrying is allowed\, where it’s restricted\, and stay updated on related state and federal laws. \nYou'll also complete a live fire qualification\, a key part of our hands-on training. \nWith a passing certificate from this class\, you'll be ready to apply for your Florida concealed carry license that is recognized with reciprocity in 37 other states. \nSecure your spot today—empower your self-defense skills! \n👉 Register Now  \nRaymond & Leslie Funk are USCCA Certified Concealed Carry & Home Defense Instructors\, NRA Certified Pistol Instructors\, NRA Certified Range Safety Officers. \nOur mission at Three Cord Marriage is to Strengthen Marriage\, Defend The Family\, and Transform The Community!
URL:https://www.threecordmarriage.com/event/florida-ccw-122724/
LOCATION:Shoot Straight Apopka\, 1349 S Orange Blossom Trail\, Apopka\, FL\, 32703\, United States
CATEGORIES:Tactical Training
ATTACH;FMTTYPE=image/jpeg:https://www.threecordmarriage.com/wp-content/uploads/2024/12/CCW-122724-16_9-1000px-Compressed.jpg
END:VEVENT
END:VCALENDAR